BEGIN:VCALENDAR
VERSION:2.0
PRODID:-//URECA - ECPv4.2.7//NONSGML v1.0//EN
CALSCALE:GREGORIAN
METHOD:PUBLISH
X-WR-CALNAME:URECA
X-ORIGINAL-URL:https://www.ureca.es
X-WR-CALDESC:Events for URECA
BEGIN:VEVENT
DTSTART;TZID=UTC+1:20220626T083000
DTEND;TZID=UTC+1:20220902T160000
DTSTAMP:20260424T094917
CREATED:20220424T103215
LAST-MODIFIED:20230612T160200
UID:38686-1656232200-1662134400@www.ureca.es
SUMMARY:Stage de Tenis verano 2022
DESCRIPTION:FECHAS: Desde el 26 de junio hasta el 2 de septiembre\, en turnos de 5 días (lunes a viernes)\n\nNo habrá campamento los festivos: 25 de julio y 15 de agosto.\n\nEDAD: en función de ésta se seleccionará el programa:\n\n \tCompetición: mayores de 10 años\n \tPrecompetición: menores de 10 años. Con el mismo planteamiento de actividades que el de alto rendimiento\, aunque con un enfoque más lúdico y divertido.\n\nACTIVIDADES: entrenamiento técnico-táctico\, preparación física\, actividades de psicomotricidad\, juegos\, piscina\,… Compartiendo entrenamientos con los mejores jugadores de nuestra escuela.\n\n \t\n\n \tCompetición: 1ª sesión de 2 h de tenis + 30 min  descanso + 2ª sesión de tenis o preparación física + piscina\n \tPrecompetición: 1ª sesión de 2 h de tenis + 30 min descanso + sesión psicomotricidad + juegos varios/tenis + piscina\n\n\n\nHORARIO:\n\n \t10:00 a 14:00  MAÑANA SIMPLE: sólo actividad\n \t08:30 a 14:00  MAÑANA CON DESAYUNO: incluye desayuno\n \t10:00 a 16:00  MAÑANA CON COMEDOR: incluye comida\n \t08:30 a 16:00 MAÑANA COMPLETA: incluye desayuno y comida\n\nSEMANAS ESPECIALES:\n\n\n \t26-29 julio y 16-19 agosto: estas semanas no habrá campamento los días festivos (25 julio y 15 agosto). Consultar precio para niños que únicamente se inscriban en alguna de estas semanas.\n\nMÁS INFORMACIÓN: Contactar con Eduardo Gimenez 692649385\n\nPLAZO INSCRIPCIÓN:\n\n \tAbierto para todos los turnos.\n \tHasta 8 días antes del inicio de cada semana\, siempre que haya plazas disponibles.\n \tNúmero de plazas limitado\, estableciéndose un mínimo de inscritos para que pueda llevarse a cabo la actividad cada una de las semanas.\n \tServicios custodia (desayuno / comedor): deberá haber un mínimo de niños que los soliciten cada semana para poder confirmar estos servicios. No se podrá solicitar este servicio dentro de una semana ya iniciada.\n\nCONFIRMACIÓN RESERVA DE PLAZA:\n\n \tUna vez recibida la preinscripción nos pondremos en contacto por correo electrónico confirmando su recepción y precio de la misma.\n \tEn el caso de no socios\, una vez recibido el correo con el importe correspondiente (según modalidad\, turnos y horario seleccionados)\, deberán realizar el pago del total indicado mediante abono en el nº de cuenta que facilitaremos. Dispondrán de un plazo máximo de 10 días para realizar dicho abono\, quedando formalizada la inscripción y reserva de plaza; en caso contrario no se reservará plaza.\n\nCLÁUSULA COVID:\n\n\n \tSi una vez iniciado el campamento\, por causas de fuerza mayor relacionadas con el COVID\, tuviese que suspenderse o paralizarse\, se retendrá el 40% del importe no disfrutado en concepto de gastos de gestión y organización.\n\n TARIFAS  PREINSCRIPCION  PROTOCOLO Y NORMAS\n VOLVER
URL:https://www.ureca.es/event/stage-de-tenis-verano-2022/
LOCATION:AVDA MANUEL LEMOS 124\, NIGRAN \, PONTEVEDRA\, 36350\, España
CATEGORIES:Campamentos
END:VEVENT
BEGIN:VEVENT
DTSTART;TZID=UTC+1:20220627T083000
DTEND;TZID=UTC+1:20220902T160000
DTSTAMP:20260424T094917
CREATED:20220424T102644
LAST-MODIFIED:20221026T170314
UID:37839-1656318600-1662134400@www.ureca.es
SUMMARY:Campamento infantil verano 2022
DESCRIPTION:\n\nFECHAS: Desde el 27 de junio hasta el 2 de septiembre\, en turnos de 5 días (lunes a viernes)\n\nNo habrá campamento los festivos: 25 de julio y 15 de agosto.\n\nSEMANAS CERRADAS: 27 junio-1 julio\, 4-8 julio\, 11-15 julio\, 18-22 julio\, 26-29 julio\, 1-5 agosto\, 8-12 agosto\, 16-19 agosto\, 22-26 agosto\n\n\nEDAD: Dirigidos a niños de 3 (independientes de pañal) a 12 años\n\nACTIVIDADES: todo tipo de actividades al aire libre – deportivas\, talleres de manualidades\, juegos tradicionales\, expresión corporal\, bailes\, búsquedas del tesoro\, playa\, piscina\,…\n\nHORARIO:\n\n \t9:30 a 14:30  MAÑANA SIMPLE: sólo actividad\n \t8:30 a 14:30  MAÑANA CON DESAYUNO: incluye desayuno (mín. 5 niños)\n \t9:30 a 16:00  MAÑANA CON COMEDOR: incluye comida (mín. 5 niños)\n \t8:30 a 16:00  MAÑANA COMPLETA: incluye desayuno y comida (mín. 5 niños)\n\nSEMANAS ESPECIALES:\n\n\n \t26-29 julio y 16-19 agosto: estas semanas no habrá campamento los días festivos (25 julio y 15 agosto). Consultar precio para niños que únicamente se inscriban en alguna de estas semanas.\n\nPLAZO INSCRIPCIÓN:\n\n \tAbierto para todos los turnos.\n \tHasta 8 días antes del inicio de cada turno\, en el caso de que haya plazas disponibles.\n \tNúmero de plazas limitado\, con un mínimo de inscritos para que pueda llevarse a cabo el campamento cada una de las semanas.\n \tServicios custodia (desayuno / comedor): deberá haber un mínimo de niños que los soliciten cada semana para poder confirmar estos servicios. No se podrá solicitar este servicio dentro de una semana ya iniciada.\n\nCONFIRMACIÓN RESERVA DE PLAZA:\n\n \tUna vez recibida la preinscripción nos pondremos en contacto por correo electrónico confirmando su recepción y el precio de la misma.\n \tEn el caso de no socios\, una vez recibido el correo con el importe correspondiente (según número de turnos y horario seleccionados)\, deberán  realizar el pago del total indicado mediante abono en el nº de cuenta que facilitaremos. Dispondrán de un plazo máximo de 10 días para realizar dicho abono\, quedando formalizada la inscripción y reserva de plaza; en caso contrario no se reservará plaza.\n\nCLÁUSULA COVID:\n\n\n \tSi una vez iniciado el campamento\, por causas de fuerza mayor relacionadas con el COVID\, tuviese que suspenderse o paralizarse\, se retendrá el 40% del importe no disfrutado en concepto de gastos de gestión y organización.\n\nTARIFAS   PREINSCRIPCION   PROTOCOLO Y NORMAS\n\nVOLVER
URL:https://www.ureca.es/event/campamento-infantil-verano-2022/
LOCATION:AVDA MANUEL LEMOS 124\, NIGRAN \, PONTEVEDRA\, 36350\, España
CATEGORIES:Campamentos
END:VEVENT
BEGIN:VEVENT
DTSTART;TZID=UTC+1:20220627T083000
DTEND;TZID=UTC+1:20220902T160000
DTSTAMP:20260424T094917
CREATED:20220424T103110
LAST-MODIFIED:20220620T122642
UID:38692-1656318600-1662134400@www.ureca.es
SUMMARY:Stage de Pádel verano 2022
DESCRIPTION:FECHAS: Desde el 27 de junio hasta el 2 de septiembre\, en turnos de 5 días (lunes a viernes)\n\nNo habrá campamento los festivos: 25 de julio y 15 de agosto.\n\nSEMANAS CERRADAS: 4-8 JULIO\, 11-15 JULIO\, 18-22 JULIO\n\n\nEDAD: en función de ésta se seleccionará el programa:\n\n \tCompetición: mayores de 9 años\n \tPrecompetición: menores de 9 años. Con el mismo planteamiento de actividades que el de alto rendimiento\, aunque con un enfoque más lúdico y divertido.\n\nACTIVIDADES: entrenamiento técnico-táctico\, preparación física\, actividades de psicomotricidad\, juegos\, piscina\, playa …\n\n \tCompetición: Entrenamientos de pádel – técnica\, táctica\, preparación física y actividades complementarias como piscina\, senderismos y actividades en la playa.\n \tPrecompetición: Sesiones de pádel\, juegos\, piscina\, actividades complementarias con un planteamiento más lúdico.\n\nHORARIO:\n\n \t10:00 a 14:00  MAÑANA SIMPLE: sólo actividad\n \t08:30 a 14:00  MAÑANA CON DESAYUNO: incluye desayuno\n \t10:00 a 16:00  MAÑANA CON COMEDOR: incluye comida\n \t08:30 a 16:00 MAÑANA COMPLETA: incluye desayuno y comida\n\nSEMANAS ESPECIALES:\n\n\n \t26-29 julio y 16-19 agosto: estas semanas no habrá campamento los días festivos (25 julio y 15 agosto). Consultar precio para niños que únicamente se inscriban en alguna de estas semanas.\n\nMÁS INFORMACIÓN: Contactar con Jaime Lago - 619372686\n\nPLAZO INSCRIPCIÓN:\n\n \tAbierto para todos los turnos.\n \tHasta 8 días antes del inicio de cada semana\, siempre que haya plazas disponibles.\n \tNúmero de plazas limitado\, estableciéndose un mínimo de inscritos para que pueda llevarse a cabo la actividad cada una de las semanas.\n \tServicios custodia (desayuno / comedor): deberá haber un mínimo de niños que los soliciten cada semana para poder confirmar estos servicios. No se podrá solicitar este servicio dentro de una semana ya iniciada.\n\nCONFIRMACIÓN RESERVA DE PLAZA:\n\n \tUna vez recibida la preinscripción nos pondremos en contacto por correo electrónico confirmando su recepción y precio de la misma.\n \tEn el caso de no socios\, una vez recibido el correo con el importe correspondiente (según modalidad\, turnos y horario seleccionados)\, deberán realizar el pago del total indicado mediante abono en el nº de cuenta que facilitaremos. Dispondrán de un plazo máximo de 10 días para realizar dicho abono\, quedando formalizada la inscripción y reserva de plaza; en caso contrario no se reservará plaza.\n\nCLÁUSULA COVID:\n\n\n \tSi una vez iniciado el campamento\, por causas de fuerza mayor relacionadas con el COVID\, tuviese que suspenderse o paralizarse\, se retendrá el 40% del importe no disfrutado en concepto de gastos de gestión y organización.\n\n TARIFAS  PREINSCRIPCION  PROTOCOLO Y NORMAS\n VOLVER
URL:https://www.ureca.es/event/stage-de-padel-verano-2022/
LOCATION:AVDA MANUEL LEMOS 124\, NIGRAN \, PONTEVEDRA\, 36350\, España
CATEGORIES:Campamentos
END:VEVENT
BEGIN:VEVENT
DTSTART;TZID=UTC+1:20220701T100000
DTEND;TZID=UTC+1:20220729T140000
DTSTAMP:20260424T094917
CREATED:20220421T125948
LAST-MODIFIED:20220429T123307
UID:38698-1656669600-1659103200@www.ureca.es
SUMMARY:Summer House 2022
DESCRIPTION:FECHAS:  1-29 Julio\n\n\nHORARIO:\n\n \t10:00–14:00  \n \t8:30- 16:00. Horario ampliado mediante servicios de custodia\n\nINFORMACION Summer House 2022\n\nINSCRIPCIÓN: Facilitamos el formulario de inscripción. No obstante\, para más información y formalización de la matrícula debes contactar directamente con Global Project:  info@globalprojectformacion.com   /  986 220 670.\n\nFORMA DE PAGO: Socios\, a través de URECA. No socios\, a través de Global Project.\n\nPLAZO INSCRIPCIÓN: desde el 25 de abril.  Plazas limitadas. \n\nSERVICIO CUSTODIA: Este servicio se solicitará directamente a Ureca\, mediante el envío de formulario al que accederás pinchando en SOLICITUD CUSTODIA. Enviaremos confirmación de recepción de solicitud y precio de la misma mediante correo electrónico.\n\nEn el caso de no socios\, para formalizar la reserva de este servicio\, deberán realizar el pago del importe indicado mediante el abono en nº de cuenta que facilitaremos.\n\n \tMAÑANA      8:30-10:00  incluye desayuno\n \tCOMEDOR   14:00-16:00 incluye comida\n \tCOMPLETA   8:30-10:00/14:00-16:00: inlcuye desayuno y comida\n\n \n\nTARIFAS   FORMULARIO INSCRIPCION   SOLICITUD CUSTODIA   VOLVER
URL:https://www.ureca.es/event/summer-house-2022/
LOCATION:AVDA MANUEL LEMOS 124\, NIGRAN \, PONTEVEDRA\, 36350\, España
CATEGORIES:Campamentos
END:VEVENT
END:VCALENDAR