BEGIN:VCALENDAR
VERSION:2.0
PRODID:-//URECA - ECPv4.2.7//NONSGML v1.0//EN
CALSCALE:GREGORIAN
METHOD:PUBLISH
X-WR-CALNAME:URECA
X-ORIGINAL-URL:https://www.ureca.es
X-WR-CALDESC:Events for URECA
BEGIN:VEVENT
DTSTART;TZID=UTC+1:20190915T100000
DTEND;TZID=UTC+1:20190922T190000
DTSTAMP:20260423T084737
CREATED:20190905T133952
LAST-MODIFIED:20190905T133952
UID:23457-1568541600-1569178800@www.ureca.es
SUMMARY:Open de Tenis - Memorial Suso Rivas
DESCRIPTION:CATEGORÍAS: \n\n\n \tabsoluto masculino\n \tbenjamín\, alevín\, infantil\, cadete\, junior (masculino y femenino)\n\n \tveteranos 35 y 45 (masculino y femenino)\n\n \tindividuales y dobles\n\n CUOTA INSCRIPCIÓN\n\n\n \t18 € absoluto fases previas\n \t25 € absoluto fase final\n \t15 € veteranos\n \t12 € categorías juveniles\n\nINSCRIPCIONES: Límite\, 11 de septiembre\n\n\nBASES TORNEO      INSCRIPCION
URL:https://www.ureca.es/event/open-de-tenis-memorial-suso-rivas/
CATEGORIES:Competiciones
END:VEVENT
END:VCALENDAR