BEGIN:VCALENDAR
VERSION:2.0
PRODID:-//URECA - ECPv4.2.7//NONSGML v1.0//EN
CALSCALE:GREGORIAN
METHOD:PUBLISH
X-WR-CALNAME:URECA
X-ORIGINAL-URL:https://www.ureca.es
X-WR-CALDESC:Events for URECA
BEGIN:VEVENT
DTSTART;TZID=UTC+1:20190830T100000
DTEND;TZID=UTC+1:20190908T220000
DTSTAMP:20260422T112128
CREATED:20190812T235612
LAST-MODIFIED:20190812T235827
UID:22649-1567159200-1567980000@www.ureca.es
SUMMARY:Torneo Social de Padel Ureca: II Memorial Carlos Gonzalez
DESCRIPTION:TORNEO SOCIAL\nCATEGORÍAS:\n\n\n \tABSOLUTA: 1ª y 2ª\n \tMASCULINA: 3ª\n \tFEMENINA: 1ª\, 2ª y 3ª\n \tMIXTA: 1ª\, 2ª y 3ª\n \tSUB14\n \tPROGENITOR@S/VASTAG@S\n\n CUOTA INSCRIPCIÓN:\n\n\n \tSOCIOS URECA: 15 € (categoría); 10 € (categorías siguientes)\n \tESCUELA y ABANCA: 20 € (categoría);  15 € (categorías siguientes)\n\n\nINSCRIPCIONES: hasta el 27 de agosto a las 23:00\n\n\n INSCRIPCION    BASES TORNEO    CUADROS\nLos participantes deberán abonar el pago de todas las categorías en las que está inscrito antes del inicio de su primer partido.\nELECCIÓN DE CATEGORÍAS: la dirección del torneo podrá vetar o recolocar a aquellas parejas que se inscriban en una categoría inferior a su nivel de juego. Aquellas parejas que hayan sido finalistas o campeones en alguna categoría en ediciones anteriores deberán anotarse en la categoría superior.\nPodrían anularse aquellos cuadros que no completen un mínimo de parejas.
URL:https://www.ureca.es/event/torneo-social-de-padel-ureca-ii-memorial-carlos-gonzalez/
CATEGORIES:Competiciones
END:VEVENT
BEGIN:VEVENT
DTSTART;TZID=UTC+1:20190902T090000
DTEND;TZID=UTC+1:20190908T230000
DTSTAMP:20260422T112128
CREATED:20190823T122204
LAST-MODIFIED:20190823T124341
UID:23068-1567414800-1567983600@www.ureca.es
SUMMARY:Torneo Social de Tenis
DESCRIPTION:CATEGORÍAS: \n\n\n \tbenjamín\, alevín\, infantil\, cadete\, junior\n\n \tabsoluto\, +35\, +45\n \tdobles padres e hijos\n \tindividual y dobles\n\n CUOTA INSCRIPCIÓN:\n\n\n \tSOCIOS URECA:\n\n \t4 € categorías benjamín\, alevín\, infantil\, cadete\, junior\n \t7 € veteranos y absoluto\n\n\n\n\n \tESCUELA Y PERSONAL ABANCA: \n\n \t 9 €\n\n\n\n\n \tDobles gratuito si se juega individual\n\nINSCRIPCIONES: Límite\, 30 de agosto\n\n\nBASES TORNEO         INSCRIPCION
URL:https://www.ureca.es/event/torneo-social-de-tenis/
CATEGORIES:Competiciones
END:VEVENT
END:VCALENDAR