BEGIN:VCALENDAR
VERSION:2.0
PRODID:-//URECA - ECPv4.2.7//NONSGML v1.0//EN
CALSCALE:GREGORIAN
METHOD:PUBLISH
X-WR-CALNAME:URECA
X-ORIGINAL-URL:https://www.ureca.es
X-WR-CALDESC:Events for URECA
BEGIN:VEVENT
DTSTART;TZID=UTC+1:20250822T080000
DTEND;TZID=UTC+1:20250831T220000
DTSTAMP:20260422T230644
CREATED:20250806T150142
LAST-MODIFIED:20250806T150812
UID:65208-1755849600-1756677600@www.ureca.es
SUMMARY:II OPEN ALTOS DE TORONA URECA
DESCRIPTION:TORNEO  DE CARÁCTER ABIERTO\n\nDel 22 AL 31 DE AGOSTO\n\nINSTALACIONES: URECA  NIGRÁN  - 4/5  PISTAS\n\nINSCRIPCIÓN: HASTA EL LUNES 18 DE  AGOSTO  A LAS 22\,30 H\n\nFASE PREVIA DE GRUPOS DE 3 PAREJAS \, CLASIFICAN 2 DE CADA GRUPO.\nSe jugará al mejor de 3 sets con PUNTO DE ORO en todos los juegos.\n\nLA DIRECCIÓN DEL TORNEO PODRÁ REDIRIGIR A LOS INSCRITOS A LA CATEGORÍA QUE SE ADAPTA MAS CORRECTAMENTE A SU NIVEL. PODRÍAN  ANULARSE AQUELLOS CUADROS QUE NO COMPLETEN  UN MÍNIMO  DE PAREJAS.\nBOLA OFICIAL : SOFTEE\n\nLOS PARTICIPANTES DEBERÁN TENER DISPONIBILIDAD TODOS LOS DIAS DEL TORNEO EN ALGUNA FRANJA DEL DIA (8H MINIMO POR DIA) LOS DIAS 29\,30 Y 31 LA DISPONIBILIDAD TIENE QUE SER TOTAL.  LOS QUE NO CUMPLAN ESE REQUISITO PODRÍAN NO SER ACEPTADOS O EN CASO DE SUPERAR EL CUPO  DE PAREJAS SE SELECCIONARÍA A LAS DE MAYOR DISPONIBILIDAD. EL NO CUMPLIR LAS 6 HORAS DE LIMITACIÓN DEBEN SER DE FUERZA MAYOR Y DEBIDAMENTE JUSTIFICADAS A LA ORGANIZACIÓN.\n\nNo se atenderán no disponibilidades por: no madrugar\, comer o no trasnochar. La organización valorará la aceptación o no de los que no cumplan con estos requisitos. No podrán participar en categoría senior jugador@s que no cumplan 12 años en 2025. Las categorías infantiles se jugarán en jornada de mañana. La inscripción se podrá cerrar antes de plazo si se cubre el límite de parejas.\n\nCATEGORÍAS:\n\n \t1ª ABSOLUTA\n \t1ª FEMENINA\n \t1ª MIXTA\n \t2º ABSOLUTA\n \t2º FEMENINA\n \t2ª MIXTA\n \t3ª MASCULINA\n \t3ª FEMENINA\n \t3ª MIXTA\n \t4ªFEMENINA\n \t4ª MASCULINA\n \t4ª MIXTA\n \t5º MASCULINA\n \t5º FEMENINA\n \t5º MIXTA\n \tSUB 13 MASCULINO\n \tSUB 13 FEMENINO\n \tSUB 10 ABSOLUTO\n\nINSCRIPCIONES \n\nSOCIOS Ureca: 16 € + 14 € (siguientes categorías)\n\nSOCIO Infantil: 10€ por categoría.\n\nNO SOCIOS : 23€ + 20€ Categorías siguientes\n\nNO SOCIOS Infantil: 15 por categoría\n\nMÁXIMO 250 PAREJAS \n\nENLACE \n\nhttps://www.ibertenis.com/padel/torneos/263/inscripciones/nueva
URL:https://www.ureca.es/event/ii-open-altos-de-torona-ureca/
END:VEVENT
END:VCALENDAR