BEGIN:VCALENDAR
VERSION:2.0
PRODID:-//URECA - ECPv4.2.7//NONSGML v1.0//EN
CALSCALE:GREGORIAN
METHOD:PUBLISH
X-WR-CALNAME:URECA
X-ORIGINAL-URL:https://www.ureca.es
X-WR-CALDESC:Events for URECA
BEGIN:VEVENT
DTSTART;TZID=UTC+0:20180209T180000
DTEND;TZID=UTC+0:20180209T203000
DTSTAMP:20260425T181318
CREATED:20180122T092147
LAST-MODIFIED:20180207T100035
UID:11571-1518199200-1518208200@www.ureca.es
SUMMARY:Fiesta Infantil de Carnaval en Nigrán
DESCRIPTION:Fiesta de disfraces con animación infantil\, dirigida a hijos de socios de Ureca y empleados de Abanca\nPara participar debes enviarnos la inscripción de tu/s hijo/s antes del fin del plazo de inscripción.\nPodrán inscribirse hasta un máximo de dos niños familiares acompañantes por socio\, que pagarán una inscripción de 3 €/niño.\nPLAZO INSCRIPCIÓN: hasta 8 febrero\n[button url="https://ureca.es/index.php/actividades-sociales/carnaval/carnaval-infantil/carnaval-infantil-inscripcion/" target="_blank|_self" style="xsmall|small|normal"]INSCRIPCION[/button]\n[button url="https://ureca.es/index.php/actividades-sociales/carnaval/carnaval-infantil/" target="_blank|_self" style="xsmall|small|normal"]VOLVER[/button]
URL:https://www.ureca.es/event/fiesta-infantil-de-carnaval-en-nigran/
CATEGORIES:Social
END:VEVENT
END:VCALENDAR