BEGIN:VCALENDAR
VERSION:2.0
PRODID:-//URECA - ECPv4.2.7//NONSGML v1.0//EN
CALSCALE:GREGORIAN
METHOD:PUBLISH
X-WR-CALNAME:URECA
X-ORIGINAL-URL:https://www.ureca.es
X-WR-CALDESC:Events for URECA
BEGIN:VEVENT
DTSTART;TZID=UTC+0:20180103T173000
DTEND;TZID=UTC+0:20180103T200000
DTSTAMP:20260425T162337
CREATED:20171212T093706
LAST-MODIFIED:20171214T131459
UID:11399-1515000600-1515009600@www.ureca.es
SUMMARY:Fiesta de Reyes en Nigrán
DESCRIPTION:Tarde con animación infantil en la que contaremos con la visita de Paje Real que\, en nombre de sus Majestades los Reyes Magos\, hará entrega de un regalo a cada uno de los niños asistentes.\nPara participar en este Fiesta\, los padres tendréis que aportar el regalo que se entregará a vuestro hijo\, el cual debéis depositar en Ureca\, los días previos a la celebración de la fiesta\, debidamente etiquetado con el nombre del niño e indicando FIESTA REYES URECA. También podréis hacer entrega del regalo en el Dpto. Capital Humano - O.P (Vigo) - quinta planta\, esquina c/ Pontevedra\, los socios empleados de Abanca asistentes a la fiesta de Nigrán.\nPreviamente debéis comunicar vuestro interés en asistir a la FIESTA DE REYES URECA\, así como vuestros datos\, los de vuestro/s hijo/s y el modo de entrega del regalo (URECA / CAPITAL HUMANO)\, rellenando el formulario de inscripción.\nLa fiesta está dirigida a hijos de socios de Ureca y empleados de Abanca.\n\nPLAZO INSCRIPCIÓN: hasta 28 diciembre\n\n[button url="https://ureca.es/index.php/actividades-sociales/fiesta-de-reyes/fiesta-de-reyes-inscripcion/" target="_blank|_self" style="xsmall|small|normal"]INSCRIPCION[/button]\n\n[button url="https://ureca.es/index.php/actividades-sociales/fiesta-de-reyes/" target="_blank|_self" style="xsmall|small|normal"]VOLVER[/button]
URL:https://www.ureca.es/event/fiesta-de-reyes-en-nigran/
CATEGORIES:Social
END:VEVENT
END:VCALENDAR